BEGIN:VCALENDAR
VERSION:2.0
PRODID:-//GEWERBEVEREIN LORSCH - ECPv6.15.18//NONSGML v1.0//EN
CALSCALE:GREGORIAN
METHOD:PUBLISH
X-WR-CALNAME:GEWERBEVEREIN LORSCH
X-ORIGINAL-URL:https://gewerbeverein-lorsch.net
X-WR-CALDESC:Veranstaltungen für GEWERBEVEREIN LORSCH
REFRESH-INTERVAL;VALUE=DURATION:PT1H
X-Robots-Tag:noindex
X-PUBLISHED-TTL:PT1H
BEGIN:VTIMEZONE
TZID:Europe/Berlin
BEGIN:DAYLIGHT
TZOFFSETFROM:+0100
TZOFFSETTO:+0200
TZNAME:CEST
DTSTART:20250330T010000
END:DAYLIGHT
BEGIN:STANDARD
TZOFFSETFROM:+0200
TZOFFSETTO:+0100
TZNAME:CET
DTSTART:20251026T010000
END:STANDARD
BEGIN:DAYLIGHT
TZOFFSETFROM:+0100
TZOFFSETTO:+0200
TZNAME:CEST
DTSTART:20260329T010000
END:DAYLIGHT
BEGIN:STANDARD
TZOFFSETFROM:+0200
TZOFFSETTO:+0100
TZNAME:CET
DTSTART:20261025T010000
END:STANDARD
BEGIN:DAYLIGHT
TZOFFSETFROM:+0100
TZOFFSETTO:+0200
TZNAME:CEST
DTSTART:20270328T010000
END:DAYLIGHT
BEGIN:STANDARD
TZOFFSETFROM:+0200
TZOFFSETTO:+0100
TZNAME:CET
DTSTART:20271031T010000
END:STANDARD
END:VTIMEZONE
BEGIN:VEVENT
DTSTART;VALUE=DATE:20260618
DTEND;VALUE=DATE:20260619
DTSTAMP:20260422T160814
CREATED:20260326T150910Z
LAST-MODIFIED:20260326T150921Z
UID:1502-1781740800-1781827199@gewerbeverein-lorsch.net
SUMMARY:Handwerkerstammtisch
DESCRIPTION:
URL:https://gewerbeverein-lorsch.net/event/handwerkerstammtisch-06/
END:VEVENT
BEGIN:VEVENT
DTSTART;VALUE=DATE:20260704
DTEND;VALUE=DATE:20260705
DTSTAMP:20260422T160814
CREATED:20260326T153305Z
LAST-MODIFIED:20260330T072013Z
UID:1532-1783123200-1783209599@gewerbeverein-lorsch.net
SUMMARY:Sommerfest
DESCRIPTION:
URL:https://gewerbeverein-lorsch.net/event/sommerfest/
END:VEVENT
BEGIN:VEVENT
DTSTART;VALUE=DATE:20260812
DTEND;VALUE=DATE:20260813
DTSTAMP:20260422T160814
CREATED:20260326T153123Z
LAST-MODIFIED:20260326T153131Z
UID:1526-1786492800-1786579199@gewerbeverein-lorsch.net
SUMMARY:Handwerkerstammtisch
DESCRIPTION:
URL:https://gewerbeverein-lorsch.net/event/handwerkerstammtisch-08/
END:VEVENT
BEGIN:VEVENT
DTSTART;VALUE=DATE:20260919
DTEND;VALUE=DATE:20260922
DTSTAMP:20260422T160814
CREATED:20260326T153335Z
LAST-MODIFIED:20260326T153335Z
UID:1534-1789776000-1790035199@gewerbeverein-lorsch.net
SUMMARY:Kerwe
DESCRIPTION:
URL:https://gewerbeverein-lorsch.net/event/kerwe/
END:VEVENT
BEGIN:VEVENT
DTSTART;VALUE=DATE:20261020
DTEND;VALUE=DATE:20261021
DTSTAMP:20260422T160814
CREATED:20260326T153156Z
LAST-MODIFIED:20260326T153156Z
UID:1528-1792454400-1792540799@gewerbeverein-lorsch.net
SUMMARY:Handwerkerstammtisch
DESCRIPTION:
URL:https://gewerbeverein-lorsch.net/event/handwerkerstammtisch-10/
END:VEVENT
BEGIN:VEVENT
DTSTART;VALUE=DATE:20261122
DTEND;VALUE=DATE:20261123
DTSTAMP:20260422T160815
CREATED:20260326T153403Z
LAST-MODIFIED:20260326T153403Z
UID:1536-1795305600-1795391999@gewerbeverein-lorsch.net
SUMMARY:Seniorennachmittag
DESCRIPTION:
URL:https://gewerbeverein-lorsch.net/event/seniorennachmittag/
END:VEVENT
BEGIN:VEVENT
DTSTART;VALUE=DATE:20261209
DTEND;VALUE=DATE:20261210
DTSTAMP:20260422T160815
CREATED:20260326T153241Z
LAST-MODIFIED:20260326T153241Z
UID:1530-1796774400-1796860799@gewerbeverein-lorsch.net
SUMMARY:Handwerkerstammtisch
DESCRIPTION:
URL:https://gewerbeverein-lorsch.net/event/handwerkerstammtisch-12/
END:VEVENT
END:VCALENDAR